BEGIN:VCALENDAR
VERSION:2.0
PRODID:SFPL Web Calendar
BEGIN:VEVENT
UID:28411@sfpl.org
DTSTAMP:20200711T180000Z
DTSTART:20200711T180000Z
DTEND:20200711T193000Z
SUMMARY:Presentation: Second Saturday -  Red Power and Alcatraz
DESCRIPTION:<p><span><span><span><span><span><span>The </span></span></span></span></span></span><a href="https://www.nps.gov/alca/index.htm"><span><span><span><span><span><span><span><span>National Park Service</span></span></span></span></span></span></span></span></a><span><span><span><span><span><span> and the San Francisco Public Library partner to commemorate the ongoing 50th anniversary of the historic occupation of Alcatraz by the </span></span></span></span></span></span><a href="https://www.nlm.nih.gov/nativevoices/timeline/520.html"><span><span><span><span><span><span><span><span>Indians of All Tribes</span></span></span></span></span></span></span></span></a><span><span><span><span><span><span>.</span></span></span></span></span></span></p>

<p><span><span><span><span><span><span>The panel will be moderated by </span></span></span></span></span></span><a href="https://sfpl.bibliocommons.com/item/show/3619948093"><span><span><span><span><span><span><span><span>Kent Blansett</span></span></span></span></span></span></span></span></a><span><span><span><span><span><span> (author/educator) and feature&nbsp;<a href="http://ilkahartmann.com/">Ilka Hartmann </a>(photographer), </span></span></span></span></span></span><a href="https://www.sfchronicle.com/bayarea/article/50-years-later-Native-Americans-return-to-14850171.php"><span><span><span><span><span><span><span><span>Kris Longoria</span></span></span></span></span></span></span></span></a><span><span><span><span><span><span> (original occupier), </span></span></span></span></span></span><a href="https://stephenshames.com/"><span><span><span><span><span><span><span><span>Stephen Shames</span></span></span></span></span></span></span></span></a><span><span><span><span><span><span> (photographer), and </span></span></span></span></span></span><a href="https://airfactsjournal.com/author/brookstownes/"><span><span><span><span><span><span><span><span>Brooks Townes</span></span></span></span></span></span></span></span></a><span><span><span><span><span><span> (photographer/</span></span></span></span></span></span><span><span><span><span><span><span>journalist) </span></span></span></span></span></span><span><span><span><span><span><span>and will focus on bringing public attention to the exhibit while providing a forum to learn about the occupation.</span></span></span></span></span></span></p>

<p><span><span><span><span><span><span><span>Reservations required: </span></span></span></span></span></span></span><a href="https://bit.ly/RedPower7-11-20"><span><span><span><span><span><span><span><span><span>https://bit.ly/RedPower7-11-20</span></span></span></span></span></span></span></span></span></a></p>

<p>This event will simultaneously be broadcast on the <a href="https://www.youtube.com/user/SanFranciscoLibrary">SF Public Library YouTube.</a><br />
&nbsp;</p>

<p><span><span><span><strong><span></span></strong><br />
</span></span></span></p>
LOCATION:Virtual Library
CLASS:PUBLIC
TRANSP:TRANSPARENT
END:VEVENT
BEGIN:VALARM
TRIGGER:-PT1440M
ACTION:DISPLAY
DESCRIPTION:Event Reminder - Presentation: Second Saturday -  Red Power and Alcatraz
END:VALARM
END:VCALENDAR