BEGIN:VCALENDAR
VERSION:2.0
PRODID:SFPL Web Calendar
BEGIN:VEVENT
UID:28589@sfpl.org
DTSTAMP:20201001T020000Z
DTSTART:20201001T020000Z
DTEND:20201001T030000Z
SUMMARY:Author: Benjamin Bac Sierra in conversation with Luis Rodriguez
DESCRIPTION:<p>In conjunction with iVIVA!: Latinx&nbsp;Heritage Month, SFPL is honored to host Benjamin Bac Sierra as our On the Same Page author. We will celebrate this local author, educator, poet, activist and Mission District native. Bac Sierra&rsquo;s new book <em>Pura Neta, </em>the long awaited sequel to <a href="https://sfpl.bibliocommons.com/item/show/2661794093"><em>Barrio Bushido</em></a> is due out in mid September <a href="https://pochinopress.com/index.html">Pochino Press</a>. Benjamin Bac Sierra will be interviewed by&nbsp; <a href="https://www.luisjrodriguez.com/">Luis Rodriguez</a>, author of <a href="https://sfpl.bibliocommons.com/item/show/2734980093"><em>Always Running</em></a><em>: La Vida Loca </em>and most recently <a href="https://sfpl.bibliocommons.com/item/show/4128005093"><em>From Our Land to Our Land Essays, Journeys, and Imaginings From A Native Xicanx Writer</em></a><em>.</em></p>

<p>Set in the San Francisco Mission varrio from 2012 to 2014, <em>Pura Neta</em> explores the creative struggle of Homeboys and Homegirls fighting against gentrification, police brutality, racism and economic and educational injustice.&nbsp;</p>

<p>&nbsp;<a href="https://sfpl.bibliocommons.com/v2/search?query=%22Bac+Sierra%2C+Benjamin%22&searchType=author">Benjamin Bac Sierra</a>&nbsp; was raised by a widowed mother and the streets of San Francisco&rsquo;s Mission District. After serving as a grunt in the Marine Corps, where he participated in front-line combat during the first Gulf War, Ben completed his B.A. in English at U.C. Berkeley, earned a teaching credential and a Master&rsquo;s in Creative Writing from San Francisco State University and merited a Juris Doctor degree from the University of California, Hastings College of the Law. Currently, he is a professor at City College of San Francisco and a community innovator and keynote speaker throughout the Bay Area. Ben&rsquo;s essays and stories have been published in newspapers and literary magazines His first novel <em>Barrio Bushido</em> was presented a Best of the Bay Award and an International Latino Book Award.&nbsp;</p>

<p><a href="https://sfpl.bibliocommons.com/v2/search?query=Rodriguez%2C%20Luis&searchType=author">Luis Rodriguez</a> is a former Los Angeles Poet Laureate. He has 16 books, is founding editor of Tia Chucha Press and co-founder Tia Chucha's Cultural Center & Bookstore. Rodriguez has two autobiographical accounts of his experiences with gang violence and addiction, <a href="https://sfpl.bibliocommons.com/item/show/2470315093"><em>It Calls You Back: An Odyssey Through Love, Addiction, Revolutions, and Healing </em></a>(Touchstone, 2012), winner of the National Book Critics Circle Award for Autobiography, and a mandatory read,&nbsp; <a href="https://sfpl.bibliocommons.com/item/show/2734980093"><em>Always Running: La Vida Loca, Gang Days in L.A</em></a>. (Curbstone Books, 1993), winner of the Carl Sandburg Award of the Friends of the Chicago Public Library. His latest book,<em> </em><a href="https://sfpl.bibliocommons.com/item/show/4128005093"><em>From Our Land to Our Land Essays, Journeys, and Imaginings From A Native Xicanx Writer</em></a><em>, </em>explores<em> </em>race, culture, identity and belonging and what these all mean and should mean (but often fail to) in the volatile climate of our nation.&nbsp;</p>

<p><strong>Connect with Ben Bac Sierra</strong>: <a href="https://todobododown.com/">Website</a>&nbsp;</p>

<p><strong>Connect with Luis Rodrigues</strong>: <a href="https://www.luisjrodriguez.com/">Website</a> | <a href="https://twitter.com/luisjrodriguez">Twitter</a></p>

<p><a href="https://bit.ly/30b8x9q">Purchase <em>Pura Neta</em></a> from <a href="http://pochinopress.com/index.html">Pochino Press</a> Use code: PURANETA30 for 30% off until 10/1/2020!</p>

<p>Purchase <a href="https://www.spdbooks.org/Products/Default.aspx?bookid=9780979528552"><em>Barrio Bushido</em></a> from Small Distribution Press</p>

<p>&nbsp;</p>

<p><strong><a href="https://bit.ly/PuraNeta9-30-20">Zoom Reservation</a></strong></p>

<p><strong><a href="https://youtu.be/gzha5aCxQhY">SFPL YouTube Live</a></strong></p>

<p>&nbsp;</p>

<p><strong>Related Events</strong></p>

<p><a href="https://bit.ly/PuraNeta10-26-20">OTSP Book Club: Benjamin Bac Sierra </a><em><a href="https://bit.ly/PuraNeta10-26-20">Pura Neta</a> </em>&ndash; Oct 26, 7PM&nbsp;</p>

<p>&nbsp;</p>
LOCATION:Virtual Library
CLASS:PUBLIC
TRANSP:TRANSPARENT
END:VEVENT
BEGIN:VALARM
TRIGGER:-PT1440M
ACTION:DISPLAY
DESCRIPTION:Event Reminder - Author: Benjamin Bac Sierra in conversation with Luis Rodriguez
END:VALARM
END:VCALENDAR