BEGIN:VCALENDAR
VERSION:2.0
PRODID:SFPL Web Calendar
BEGIN:VEVENT
UID:28662@sfpl.org
DTSTAMP:20201027T020000Z
DTSTART:20201027T020000Z
DTEND:20201027T030000Z
SUMMARY:Book Club: Pura Neta by Benjamin Bac Sierra
DESCRIPTION:<p>We will be discussing&nbsp;<em><a href="https://todobododown.com/pura-neta/">Pura Neta</a>&nbsp;</em>by Benjamin Bac Sierra, our Sept./Oct. On the Same Page author.&nbsp;</p>

<p>Set in the San Francisco Mission varrio from 2012 to 2014,&nbsp;<em>Pura Neta</em> explores the creative struggle of Homeboys and Homegirls fighting against gentrification, police brutality, racism and economic and educational injustice. Cartoon, a Homeboy who had been banished from the barrio twenty years earlier, has returned from his educational and spiritual odyssey. He finds the hood under attack, and it is no longer the gangs, but the monsters of cafes, cheese schools and micro-breweries, protected by their own police force, that are destroying the native San Franciscans. In order to strategize a meaningful movement, Cartoon visits his old mentor, El Lobo, a barrio shot caller who is now serving a life prison sentence in San Quentin. Cartoon then recruits the young Homeys to begin implementing amor action in the hood, until the police murder a Loved One, which ultimately sparks&nbsp;<em>The Revolt of the Roots</em>.</p>

<p><strong>Registration:</strong>&nbsp;<a href="https://bit.ly/OTSPBkClb10-26-20">https://bit.ly/OTSPBkClb10-26-20</a></p>
LOCATION:Virtual Library
CLASS:PUBLIC
TRANSP:TRANSPARENT
END:VEVENT
BEGIN:VALARM
TRIGGER:-PT1440M
ACTION:DISPLAY
DESCRIPTION:Event Reminder - Book Club: Pura Neta by Benjamin Bac Sierra
END:VALARM
END:VCALENDAR