BEGIN:VCALENDAR
VERSION:2.0
PRODID:SFPL Web Calendar
BEGIN:VEVENT
UID:28703@sfpl.org
DTSTAMP:20201029T180000Z
DTSTART:20201029T180000Z
DTEND:20201029T183000Z
SUMMARY:Storytime: Sweet Stories for Families
DESCRIPTION:<p>Bilingual espa&ntilde;ol/English stories and songs for children and their families.<br />
Tune in on the Library's Facebook page: <a href="http://www.facebook.com/sfpl.org">www.facebook.com/sfpl.org</a></p>

<p>Tip: You do not need a Facebook account to view a presentation when using the link, you can close any pop-up windows.</p>

<p>&nbsp;</p>
LOCATION:Virtual Library
CLASS:PUBLIC
TRANSP:TRANSPARENT
END:VEVENT
BEGIN:VALARM
TRIGGER:-PT1440M
ACTION:DISPLAY
DESCRIPTION:Event Reminder - Storytime: Sweet Stories for Families
END:VALARM
END:VCALENDAR