BEGIN:VCALENDAR
VERSION:2.0
PRODID:SFPL Web Calendar
BEGIN:VEVENT
UID:28752@sfpl.org
DTSTAMP:20201025T180000Z
DTSTART:20201025T180000Z
DTEND:20201025T190000Z
SUMMARY:Speaker: Día de Muertos con Calixto Robles en español
DESCRIPTION:<p>Calixto Robles, San Francisco artist and activist will lead a discussion of the history and creation of D&iacute;a de Muertos. This event will be presented in Spanish.&nbsp;</p>

<p>Connect with Calixto Robles: <a href="https://calixtoart.com/">Website</a> | <a href="https://www.instagram.com/calixto.robles/">Instagram</a> | <a href="https://www.facebook.com/calixto.robles.7">Facebook</a> | <a href="http://eltecolote.org/content/en/arts_culture/mission-maestro-reminds-us-that-water-is-life-with-latest-show/">Press</a></p>

<p>photo credit -&nbsp;At La Mejor Bakery on 24th Street. Photo by Lydia Ch&aacute;vez for <a href="https://missionlocal.org/2016/11/merchants-artists-turn-to-day-of-the-dead-during-turbulent-times/">Mission Local</a></p>

<p>&nbsp;</p>

<p><strong>Registration</strong>:&nbsp;<a href="http://bit.ly/DíaDeMuertos10-25-20">http://bit.ly/D&iacute;aDeMuertos10-25-20</a></p>

<p><strong>SFPL YouTube Live:</strong> <a href="https://youtu.be/pFDMYCfDCd8">https://youtu.be/pFDMYCfDCd8</a></p>

<p>&nbsp;</p>
LOCATION:Virtual Library
CLASS:PUBLIC
TRANSP:TRANSPARENT
END:VEVENT
BEGIN:VALARM
TRIGGER:-PT1440M
ACTION:DISPLAY
DESCRIPTION:Event Reminder - Speaker: Día de Muertos con Calixto Robles en español
END:VALARM
END:VCALENDAR