BEGIN:VCALENDAR
VERSION:2.0
PRODID:SFPL Web Calendar
BEGIN:VEVENT
UID:28850@sfpl.org
DTSTAMP:20201028T220000Z
DTSTART:20201028T220000Z
DTEND:20201028T221500Z
SUMMARY:STEM: Chemical Reaction Challenge
DESCRIPTION:<p>Learn about chemical reactions. Gather a plastic bottle, baking soda and vinegar for this challenge with YELL 2020 teen intern Ryan.</p>

<p>Tune in to <a href="https://www.youtube.com/user/SanFranciscoLibrary">SFPL YouTube. </a></p>

<p>STEM Challenge | Teen Takeover is created by the San Francisco Public Library from the Youth Engaged in Library Leadership (YELL) STEM team. Stay STEM-tastic by reading, learning and experimenting at home. Visit <a href="http://www.sfpl.org/stemchallenge">www.sfpl.org/stemchallenge</a> for more resources.</p>
LOCATION:Virtual Library
CLASS:PUBLIC
TRANSP:TRANSPARENT
END:VEVENT
BEGIN:VALARM
TRIGGER:-PT1440M
ACTION:DISPLAY
DESCRIPTION:Event Reminder - STEM: Chemical Reaction Challenge
END:VALARM
END:VCALENDAR