BEGIN:VCALENDAR
VERSION:2.0
PRODID:SFPL Web Calendar
BEGIN:VEVENT
UID:28940@sfpl.org
DTSTAMP:20201027T220000Z
DTSTART:20201027T220000Z
DTEND:20201027T230000Z
SUMMARY:Dialogue: ESL Conversation Group
DESCRIPTION:<p>Practice speaking English in a friendly group setting.&nbsp;We will meet every Tuesday, October 6-27. All levels are welcome. Attend any or all sessions.</p>

<p><strong><a href="http://bit.ly/ESL_Oct_Tues">Zoom Registration</a></strong></p>

<p>&nbsp;</p>
LOCATION:Virtual Library
CLASS:PUBLIC
TRANSP:TRANSPARENT
END:VEVENT
BEGIN:VALARM
TRIGGER:-PT1440M
ACTION:DISPLAY
DESCRIPTION:Event Reminder - Dialogue: ESL Conversation Group
END:VALARM
END:VCALENDAR