BEGIN:VCALENDAR
VERSION:2.0
PRODID:SFPL Web Calendar
BEGIN:VEVENT
UID:29272@sfpl.org
DTSTAMP:20210122T220000Z
DTSTART:20210122T220000Z
DTEND:20210122T224500Z
SUMMARY:Workshop: Hand Drawing with the Museum of the African Diaspora
DESCRIPTION:<p>Learn the basics of pencil shading and blending in an all-ages guided drawing workshop with Sedey Gebreyes of the <a href="http://www.moadsf.org">Museum of the African Diaspora</a>. You do not have to possess any artistic skills to participate.&nbsp;Ideal for kids 5 and older and open to participants of all ages.</p>

<h3><strong><a href="https://youtu.be/psX10EaJKlY">YouTube Live</a></strong></h3>

<p>&nbsp;</p>

<p>For the workshop you will need:</p>

<ul>
	<li>A dull pencil</li>
	<li>Two sheets of plain white paper (8.5&rdquo; x 11&rdquo; or larger)</li>
	<li>Optional: Two Q-tips or cotton swabs</li>
	<li>Optional: Eraser</li>
</ul>

<p><strong>Museum of the African Diaspora - </strong><a href="https://www.moadsf.org/">Website</a> | <a href="https://instagram.com/moadsf/">Instagram</a> | <a href="https://www.facebook.com/moadsanfrancisco">Facebook</a> | <a href="https://www.youtube.com/channel/UCBDxwyq8yf8N5rXI8k2UdjA/featured">YouTube</a></p>

<p><strong>About the Artist: </strong>(T)sedey Gebreyes, born in Addis Ababa, Ethiopia, is a multidisciplinary artist, educator, and beekeeping enthusiast. Her creative work and teaching style are greatly influenced by the wonderful visual artists, theater performers, and storytellers of her childhood community. After moving to the United States, she studied Studio Arts at University of Missouri, Kansas City, and Fine Arts and Spanish at University of Veracruz, Mexico.</p>

<p>Following her passion, she moved to San Francisco, California in 2007 where she has held a variety of positions including Adjunct Educator at San Francisco Museum of Modern Art, Teaching Artist at the DeYoung Museum, Co-founder and Teaching Artist at MiCultura Art Project, After School Program Manager at the Jewish Community Center of San Francisco, and San Francisco Unified School District.</p>
LOCATION:Virtual Library
CLASS:PUBLIC
TRANSP:TRANSPARENT
END:VEVENT
BEGIN:VALARM
TRIGGER:-PT1440M
ACTION:DISPLAY
DESCRIPTION:Event Reminder - Workshop: Hand Drawing with the Museum of the African Diaspora
END:VALARM
END:VCALENDAR