BEGIN:VCALENDAR
VERSION:2.0
PRODID:SFPL Web Calendar
BEGIN:VEVENT
UID:29450@sfpl.org
DTSTAMP:20210228T000000Z
DTSTART:20210228T000000Z
DTEND:20210228T010000Z
SUMMARY:Book Club: Dystopian Novels, Omar El Akkad's American War
DESCRIPTION:<p><a href="https://sfpl.bibliocommons.com/item/show/3366311093"><em>American War</em></a> is the first novel by Canadian-Egyptian journalist Omar El Akkad. It is an audacious and powerful debut novel: a second American Civil War, a devastating plague and one family caught deep in the middle of a story that asks what might happen if America were to turn its most devastating policies and deadly weapons upon itself.</p>

<p>&nbsp;</p>
LOCATION:Virtual Library
CLASS:PUBLIC
TRANSP:TRANSPARENT
END:VEVENT
BEGIN:VALARM
TRIGGER:-PT1440M
ACTION:DISPLAY
DESCRIPTION:Event Reminder - Book Club: Dystopian Novels, Omar El Akkad's American War
END:VALARM
END:VCALENDAR