BEGIN:VCALENDAR
VERSION:2.0
PRODID:SFPL Web Calendar
BEGIN:VEVENT
UID:29595@sfpl.org
DTSTAMP:20210212T023000Z
DTSTART:20210212T023000Z
DTEND:20210212T033000Z
SUMMARY:Dialogue: ESL Conversation Group
DESCRIPTION:<p>Practice speaking English in a friendly group setting.&nbsp;We will meet every Thursday, through February 25. All levels are welcome. Attend any or all sessions.</p>

<p>&nbsp;</p>

<p>&nbsp;</p>
LOCATION:Virtual Library
CLASS:PUBLIC
TRANSP:TRANSPARENT
END:VEVENT
BEGIN:VALARM
TRIGGER:-PT1440M
ACTION:DISPLAY
DESCRIPTION:Event Reminder - Dialogue: ESL Conversation Group
END:VALARM
END:VCALENDAR