BEGIN:VCALENDAR
VERSION:2.0
PRODID:SFPL Web Calendar
BEGIN:VEVENT
UID:29637@sfpl.org
DTSTAMP:20210426T170000Z
DTSTART:20210426T170000Z
DTEND:20210426T183000Z
SUMMARY:Presentation: Options Trading and Wealth Management: Manufacturing Money & Sleep
DESCRIPTION:<p>Learn how to buy low & sell high in the&nbsp;options&nbsp;market with institutional strategies - explained with good humor & sound financial knowledge. This program is&nbsp;for&nbsp;people with intermediate to advanced investing skills. Presented by Jonathan Masse, CFA.&nbsp;</p>

<p>Jonathan Masse is an Investment Strategist for Perigon Wealth Management, a Registered Investment Advisor. He began his career in 1994,&nbsp;cutting his teeth as a market-maker on the floor of the CBOE and PSE options exchanges. In 2001, he joined Barclays Global Investors as they launched their iShares product set, and he managed over $30 billion in institutional Emerging Markets portfolios. In 2007, he partnered with Burton&nbsp;Malkiel&nbsp;of&nbsp;Random Walk&nbsp;fame on ETFs and hedge funds as part of an eight year project. He began his own consultancy in 2015, and worked with three firms who produced six of&nbsp;ETF.com&rsquo;s&nbsp;&ldquo;15 most important ETFs&rdquo;. A star project of his was the launch of WisdomTree&rsquo;s first options-based strategy: The WisdomTree CBOE/S&P500 Put-write Fund (ticker: PUTW). He transitioned his options expertise into &ldquo;Wealth Management with Options&rdquo; at Perigon in July 2019 with a focus on risk-compensating solutions to high network individuals and institutional clients.&nbsp;</p>

<p>Connect with Jonathan Masse:&nbsp;<a href="https://www.linkedin.com/in/jonathan-masse-3140a59/">LinkedIn</a>&nbsp;|&nbsp;<a href="https://www.facebook.com/jjmasse/">Facebook</a></p>
LOCATION:Virtual Library
CLASS:PUBLIC
TRANSP:TRANSPARENT
END:VEVENT
BEGIN:VALARM
TRIGGER:-PT1440M
ACTION:DISPLAY
DESCRIPTION:Event Reminder - Presentation: Options Trading and Wealth Management: Manufacturing Money & Sleep
END:VALARM
END:VCALENDAR