BEGIN:VCALENDAR
VERSION:2.0
PRODID:SFPL Web Calendar
BEGIN:VEVENT
UID:29647@sfpl.org
DTSTAMP:20210415T230000Z
DTSTART:20210415T230000Z
DTEND:20210416T001500Z
SUMMARY:Workshop: LinkedIn for Job Search, Part 3
DESCRIPTION:<p>To truly take advantage of the power of LinkedIn for your job search and career goals, you must do more than make a profile and get connections. This workshop introduces you to the concept of personal branding and shows you how to use LinkedIn features to establish your own brand and build a reputation as an expert, opening up new doors and opportunities in your career.&nbsp;This is Part 3&nbsp;of a three-part series presented by Shari Tishman.&nbsp;&nbsp;</p>

<p>Shari Tishman has been teaching LinkedIn for Job Search workshops for eight years, and has leveraged LinkedIn for professional networking to find new jobs for herself and hire others.&nbsp;</p>

<p>Connect with Shari Tishman:&nbsp;<a href="https://www.linkedin.com/in/sharitishman/">LinkedIn</a>&nbsp;</p>
LOCATION:Virtual Library
CLASS:PUBLIC
TRANSP:TRANSPARENT
END:VEVENT
BEGIN:VALARM
TRIGGER:-PT1440M
ACTION:DISPLAY
DESCRIPTION:Event Reminder - Workshop: LinkedIn for Job Search, Part 3
END:VALARM
END:VCALENDAR