BEGIN:VCALENDAR
VERSION:2.0
PRODID:SFPL Web Calendar
BEGIN:VEVENT
UID:29756@sfpl.org
DTSTAMP:20210406T020000Z
DTSTART:20210406T020000Z
DTEND:20210406T031500Z
SUMMARY:Workshop: Know Your Name with Kaytea Petro, Artist
DESCRIPTION:<p>Kaytea Petro, artist, leads participants in a life body drawing workshop, drawing observable parts of our bodies&mdash;hands, feet, ears, lips and our bodies in motion&mdash;followed by a discussion on the integration of the parts which make up whole person. Art is not about representation, it's about communication of emotion and ideas.&nbsp;</p>

<p>After studying at UC Santa Cruz, the Florence Academy of Art and the Sichuan Academy of Fine Arts, Petro permanently injured the tendons in her arms working as a theatrical carpenter in 2003. The chronic, disabling pain prevented her from making sculptures for a number of years, so she turned to comic books and illustration. In 2011, she stumbled into a ceramics studio, and decided to give 3D another try. Gnome Island Studios was born out of those first sculptures made after all those years. Connect - <a href="https://kayteapetro.com/">Website</a> | <a href="https://www.instagram.com/gnome_island_studios/?hl=en">Instagram</a></p>

<p>&nbsp;</p>
LOCATION:Virtual Library
CLASS:PUBLIC
TRANSP:TRANSPARENT
END:VEVENT
BEGIN:VALARM
TRIGGER:-PT1440M
ACTION:DISPLAY
DESCRIPTION:Event Reminder - Workshop: Know Your Name with Kaytea Petro, Artist
END:VALARM
END:VCALENDAR