BEGIN:VCALENDAR
VERSION:2.0
PRODID:SFPL Web Calendar
BEGIN:VEVENT
UID:29770@sfpl.org
DTSTAMP:20210303T190000Z
DTSTART:20210303T190000Z
DTEND:20210303T200000Z
SUMMARY:Presentation: CA Notify App
DESCRIPTION:<p>California can stop the spread of Covid-19. Add your phone number today to California's exposure notification system.&nbsp;</p>

<p>Connect with San Francisco Department of Emergency Management - <a href="https://sfdem.org/">Website</a> | <a href="https://twitter.com/SF_emergency">Twitter</a> | <a href="https://www.facebook.com/SFDEM/">Facebook</a> | <a href="https://www.youtube.com/user/SFDeptEmergencyMgmt">YouTube</a></p>
LOCATION:Virtual Library
CLASS:PUBLIC
TRANSP:TRANSPARENT
END:VEVENT
BEGIN:VALARM
TRIGGER:-PT1440M
ACTION:DISPLAY
DESCRIPTION:Event Reminder - Presentation: CA Notify App
END:VALARM
END:VCALENDAR