BEGIN:VCALENDAR
VERSION:2.0
PRODID:SFPL Web Calendar
BEGIN:VEVENT
UID:29830@sfpl.org
DTSTAMP:20210423T013000Z
DTSTART:20210423T013000Z
DTEND:20210423T023000Z
SUMMARY:Dialogue: ESL Conversation Group
DESCRIPTION:<p>Practice speaking English in a friendly group setting.&nbsp;We meet every Tuesday, through April&nbsp;29. All levels are welcome. Attend any or all sessions.</p>
LOCATION:Virtual Library
CLASS:PUBLIC
TRANSP:TRANSPARENT
END:VEVENT
BEGIN:VALARM
TRIGGER:-PT1440M
ACTION:DISPLAY
DESCRIPTION:Event Reminder - Dialogue: ESL Conversation Group
END:VALARM
END:VCALENDAR