BEGIN:VCALENDAR
VERSION:2.0
PRODID:SFPL Web Calendar
BEGIN:VEVENT
UID:30002@sfpl.org
DTSTAMP:20210514T000000Z
DTSTART:20210514T000000Z
DTEND:20210514T010000Z
SUMMARY:Bienestar digital: Redefinir el tiempo en línea de su hij@
DESCRIPTION:<p>Consejos pr&aacute;cticos para padres lidiando con el aprendizaje a distancia y la fatiga de estar en l&iacute;nea. Los participantes crear&aacute;n un plan hol&iacute;stico para abordar la interacci&oacute;n en l&iacute;nea, entender las herramientas tecnol&oacute;gicas que pueden ayudar mejor a l@s ni&ntilde;@s a navegar el tiempo con pantallas y fomentar c&oacute;mo celebrar el bienestar digital. Presentado por Common Sense.&nbsp;</p>

<p>Este evento tambi&eacute;n se transmitir&aacute; en vivo en el<a href="https://youtu.be/djWmXwVGelY"> canal de YouTube de SFPL</a>.&nbsp;</p>

<p>&nbsp;</p>

<p>Join Common Sense as they share practical tips for parents grappling with distance learning and online fatigue. Create a holistic plan to address online engagement, understand tech tools that can better help children navigate screen time and insight on how to celebrate digital wellness.&nbsp;</p>

<p>Watch on <a href="https://youtu.be/djWmXwVGelY">YouTube Live</a>.&nbsp;</p>

<p><br />
&nbsp;</p>

<p>Parte de la <a href="https://sfpl.org/locations/main-library/bridge-main-5th-floor/connect-tech-week">Semana Tecnol&oacute;gica</a> de San Francisco, mayo 9 al 15,.</p>

<p>This event is part of San Francisco's<a href="https://sfpl.org/locations/main-library/bridge-main-5th-floor/connect-tech-week"> Tech Week</a>, May 9&ndash;15.</p>

<p>&nbsp;</p>

<p>&nbsp;</p>
LOCATION:Virtual Library
CLASS:PUBLIC
TRANSP:TRANSPARENT
END:VEVENT
BEGIN:VALARM
TRIGGER:-PT1440M
ACTION:DISPLAY
DESCRIPTION:Event Reminder - Bienestar digital: Redefinir el tiempo en línea de su hij@
END:VALARM
END:VCALENDAR