BEGIN:VCALENDAR
VERSION:2.0
PRODID:SFPL Web Calendar
BEGIN:VEVENT
UID:30010@sfpl.org
DTSTAMP:20210513T223000Z
DTSTART:20210513T223000Z
DTEND:20210514T000000Z
SUMMARY:Workshop: Python for Teens
DESCRIPTION:<p>In this hands on workshop, Mission Bit will lead everyone into a look at Python&mdash; one of the world's most popular programming languages and create our own interactive turtle game.&nbsp; This workshop will begin with an intro to Python and some of its core concepts before you are guided through a series of mini lessons and challenges. All to end with an awesome interactive project to show your friends and family. Beginners welcome, for ages 13-18.&nbsp;&nbsp;</p>

<p>Connect with MIssion Bit - <a href="http://www.missionbit.org/">Website</a>&nbsp;</p>

<p>&nbsp;</p>

<p>This event is part of San Francisco's<a href="https://sfpl.org/locations/main-library/bridge-main-5th-floor/connect-tech-week"> Tech Week</a>, May 9&ndash;15.</p>

<p>&nbsp;</p>
LOCATION:Virtual Library
CLASS:PUBLIC
TRANSP:TRANSPARENT
END:VEVENT
BEGIN:VALARM
TRIGGER:-PT1440M
ACTION:DISPLAY
DESCRIPTION:Event Reminder - Workshop: Python for Teens
END:VALARM
END:VCALENDAR