BEGIN:VCALENDAR
VERSION:2.0
PRODID:SFPL Web Calendar
BEGIN:VEVENT
UID:30014@sfpl.org
DTSTAMP:20210513T190000Z
DTSTART:20210513T190000Z
DTEND:20210513T200000Z
SUMMARY:Presentation: Acceso a material digital de la Biblioteca con aplis
DESCRIPTION:<p>Aprende c&oacute;mo usar las aplis Libby, Kanopy y Hoopla para tener acceso a libros digitales, audiolibros, m&uacute;sica, pel&iacute;culas y m&aacute;s, en espa&ntilde;ol, con la Biblioteca P&uacute;blica de San Francisco.&nbsp;</p>

<p>Este evento tambi&eacute;n se transmitir&aacute; en vivo<a href="https://youtu.be/ywM2tWLoweg"> en el canal de YouTube de SFPL</a>.&nbsp;</p>

<p>&nbsp;</p>

<p>Learn how to use the apps Libby, Kanopy and Hoopla to have access to eBooks, audiobooks, eMusic, movies and more, in Spanish, with SFPL.</p>

<p>Watch on <a href="https://youtu.be/ywM2tWLoweg">YouTube Live</a>.&nbsp;</p>

<p>&nbsp;</p>

<p>Parte de la <a href="https://sfpl.org/locations/main-library/bridge-main-5th-floor/connect-tech-week">Semana Tecnol&oacute;gica</a> de San Francisco, mayo 9 al 15,.</p>

<p>This event is part of San Francisco's<a href="https://sfpl.org/locations/main-library/bridge-main-5th-floor/connect-tech-week"> Tech Week</a>, May 9&ndash;15.</p>
LOCATION:Virtual Library
CLASS:PUBLIC
TRANSP:TRANSPARENT
END:VEVENT
BEGIN:VALARM
TRIGGER:-PT1440M
ACTION:DISPLAY
DESCRIPTION:Event Reminder - Presentation: Acceso a material digital de la Biblioteca con aplis
END:VALARM
END:VCALENDAR