BEGIN:VCALENDAR
VERSION:2.0
PRODID:SFPL Web Calendar
BEGIN:VEVENT
UID:30038@sfpl.org
DTSTAMP:20210520T010000Z
DTSTART:20210520T010000Z
DTEND:20210520T023000Z
SUMMARY:Author: Lewis Gordon, Freedom, Justice, and Decolonization
DESCRIPTION:<p>Lewis R. Gordon in conversation with Justin Desmangles, discusses his latest work,<em> Freedom, Justice, and Decolonization.<br />
Gordon takes the reader on a journey as he interrogates a trail from colonized philosophy to re-imagining liberation and revolution to critical challenges raised by Afropessimism, theodicy and looming catastrophe. He offers not forecast and foreclosure but instead an urgent call for dignifying and urgent acts of political commitment.</em><br />
&nbsp;</p>

<p><a href="https://sfpl.bibliocommons.com/v2/search?query=Gordon%2C%20Lewis%20R.&searchType=author">Lewis R. Gordon</a>&nbsp;is an American philosopher at the University of Connecticut who works in the areas of Africana philosophy, existentialism, phenomenology, social and political theory, postcolonial thought, theories of race and racism, philosophies of liberation, aesthetics, philosophy of education and philosophy of religion. He has written particularly extensively on Africana and Black existentialism, postcolonial phenomenology, race and racism and on the works and thought of W. E. B. Du Bois and Frantz Fanon.</p>

<p>Justin Desmangles is chairman of the Before Columbus Foundation, administrator of the American Book Award.</p>

<h3><strong><a href="https://youtu.be/xwuEQ-UJOHM">YouTube Live</a></strong></h3>

<p>&nbsp;</p>

<p>Connect</p>

<p>Lewis Gordon - Website | Instagram | <a href="https://twitter.com/lewgord?lang=en">Twitter</a> | <a href="https://www.facebook.com/LewisGordonPhilosopher/">Facebook</a>&nbsp;</p>

<p>Before Columbus Foundation - <a href="http://www.beforecolumbusfoundation.com/">Website</a> | <a href="https://www.facebook.com/beforecolumbusfoundation">Facebook</a>&nbsp;</p>

<p>&nbsp;</p>
LOCATION:Virtual Library
CLASS:PUBLIC
TRANSP:TRANSPARENT
END:VEVENT
BEGIN:VALARM
TRIGGER:-PT1440M
ACTION:DISPLAY
DESCRIPTION:Event Reminder - Author: Lewis Gordon, Freedom, Justice, and Decolonization
END:VALARM
END:VCALENDAR