BEGIN:VCALENDAR
VERSION:2.0
PRODID:SFPL Web Calendar
BEGIN:VEVENT
UID:30043@sfpl.org
DTSTAMP:20210529T230000Z
DTSTART:20210529T230000Z
DTEND:20210530T000000Z
SUMMARY:Book Club: Emily St. John Mandel's Station Eleven
DESCRIPTION:<p>An audacious, darkly glittering novel set in the eerie days of civilization's collapse, <a href="https://sfpl.bibliocommons.com/item/show/2903296093"><em>Station Eleven</em></a> tells the spellbinding story of a Hollywood star, his would-be savior, and a nomadic group of actors roaming the scattered outposts of the Great Lakes region, risking everything for art and humanity. <a href="https://sfpl.bibliocommons.com/v2/search?query=%22Mandel%2C+Emily+St.+John%22&searchType=author">Emily St. John Mandel</a>&nbsp;is a&nbsp;National Book Award Finalist A PEN/Faulkner Award Finalist.</p>

<p>&nbsp;</p>

<p>&nbsp;</p>

<p>&nbsp;</p>
LOCATION:Virtual Library
CLASS:PUBLIC
TRANSP:TRANSPARENT
END:VEVENT
BEGIN:VALARM
TRIGGER:-PT1440M
ACTION:DISPLAY
DESCRIPTION:Event Reminder - Book Club: Emily St. John Mandel's Station Eleven
END:VALARM
END:VCALENDAR