BEGIN:VCALENDAR
VERSION:2.0
PRODID:SFPL Web Calendar
BEGIN:VEVENT
UID:30070@sfpl.org
DTSTAMP:20211210T020000Z
DTSTART:20211210T020000Z
DTEND:20211210T031500Z
SUMMARY:Performance: Kim Shuck's Poem Jam celebrates Diane di Prima
DESCRIPTION:<p>Poet Laureate emerita<a href="https://sfpl.bibliocommons.com/v2/search?custom_edit=false&query=contributor%3A%28shuck%2C+kim%29&searchType=bl&suppress=true">&nbsp;Kim Shuck</a>&nbsp;invites special guests for a poetry reading in celebration of the extraordinary Beat Generation luminary and former San Francisco Poet Laureate<a href="https://sfpl.bibliocommons.com/v2/search?custom_edit=false&query=contributor%3A%28di+Prima%2C+diane%29&searchType=bl&suppress=true">&nbsp;Diane di Prima</a>. Featuring San Francisco&rsquo;s Poet Laureate <a href="https://sfpl.bibliocommons.com/v2/search?custom_edit=false&query=contributor%3A%28eisen-martin%2C+tongo%29&searchType=bl&suppress=true">Tongo Eisen-Martin</a>, <a href="https://sfpl.bibliocommons.com/v2/search?custom_edit=false&query=contributor%3A%28major%2C+devorah%29&searchType=bl&suppress=true">&nbsp;devorah major</a>&nbsp;(SF Poet Laureate 2002 &ndash; 2004), Bill Vartnaw, <a href="https://sfpl.bibliocommons.com/v2/search?custom_edit=false&query=contributor%3A%28costello%2C+kitty%29&searchType=bl&suppress=true">Kitty Costello</a>, Sheppard Powell, Jenny Jo Wennlund, Melissa Eleftherion Carr, and <a href="https://sfpl.bibliocommons.com/v2/search?custom_edit=false&query=contributor%3A%28Sugioka%2C+Kimi%29&searchType=bl&suppress=true">Kimi Sugioka</a>.</p>

<p><strong><a href="https://youtu.be/gJXMlaePyVw">Watch on YouTube.</a></strong></p>
LOCATION:Virtual Library
CLASS:PUBLIC
TRANSP:TRANSPARENT
END:VEVENT
BEGIN:VALARM
TRIGGER:-PT1440M
ACTION:DISPLAY
DESCRIPTION:Event Reminder - Performance: Kim Shuck's Poem Jam celebrates Diane di Prima
END:VALARM
END:VCALENDAR