BEGIN:VCALENDAR
VERSION:2.0
PRODID:SFPL Web Calendar
BEGIN:VEVENT
UID:30112@sfpl.org
DTSTAMP:20210702T010000Z
DTSTART:20210702T010000Z
DTEND:20210702T023000Z
SUMMARY:Book Club: World Literature, Katherine Anne Porter’s Pale Horse, Pale Rider
DESCRIPTION:<p>We discuss Katherine Anne Porter&rsquo;s classic <a href="https://sfpl.bibliocommons.com/v2/search?custom_edit=false&query=title%3A%28%22pale+horse%2C+pale+rider%22%29&searchType=bl&suppress=true"><em>Pale Horse, Pale Rider</em></a><em>.</em> This collection of three short novellas includes a moving story about two young lovers caught up in the 1918 influenza pandemic.</p>

<p><a href="https://sfpl.bibliocommons.com/list/share/377327687_sfpl_johns/572513107_world_literature_book_club"><strong>World Literature Book Club reading list</strong></a></p>

<p>&nbsp;</p>
LOCATION:Virtual Library
CLASS:PUBLIC
TRANSP:TRANSPARENT
END:VEVENT
BEGIN:VALARM
TRIGGER:-PT1440M
ACTION:DISPLAY
DESCRIPTION:Event Reminder - Book Club: World Literature, Katherine Anne Porter’s Pale Horse, Pale Rider
END:VALARM
END:VCALENDAR