BEGIN:VCALENDAR
VERSION:2.0
PRODID:SFPL Web Calendar
BEGIN:VEVENT
UID:30167@sfpl.org
DTSTAMP:20210417T010000Z
DTSTART:20210417T010000Z
DTEND:20210417T023000Z
SUMMARY:Asian/American Women Poets Speak Out
DESCRIPTION:<p>ILLUMINATE II: Asian & Asian American Women Speak Out. April 16, 2021 marks one month since 8 people, 6 of who were Asian/Asian American women, were murdered. Join an evening of poetry standing solidarity with Asian & Asian American communities.</p>

<p>Co-Hosted by <a href="https://sfpl.bibliocommons.com/v2/search?query=Shuck%2C%20Kim&searchType=author">Kim Shuck</a>, SF Poet Laureate emeritus, & <a href="https://www.instagram.com/lauren.ito/">Lauren Ito</a><br />
<br />
Featuring <a href="https://www.instagram.com/smcountypl/">Aileen Cassinetto</a>,<a href="https://www.anoukyeh.com/"> Anouk Yeh</a>, <a href="http://www.christineno.com/">Christine No</a>, <a href="https://clarahsu.com/">Clara Hsu</a>, <a href="https://www.instagram.com/jireh_deng/">Jireh Deng</a>, <a href="https://www.facebook.com/kimi.sugioka">Kimi Sugioka</a>, <a href="https://www.instagram.com/harpologist/?hl=en">Lisa Lim</a> & <a href="https://peminist.com/about-2/">Melinda Luisa de Jesus</a></p>

<h3><a href="https://youtu.be/gV2yoI1g3AY"><strong>YouTube Live</strong></a></h3>
LOCATION:Virtual Library
CLASS:PUBLIC
TRANSP:TRANSPARENT
END:VEVENT
BEGIN:VALARM
TRIGGER:-PT1440M
ACTION:DISPLAY
DESCRIPTION:Event Reminder - Asian/American Women Poets Speak Out
END:VALARM
END:VCALENDAR