BEGIN:VCALENDAR
VERSION:2.0
PRODID:SFPL Web Calendar
BEGIN:VEVENT
UID:31349@sfpl.org
DTSTAMP:20210513T200000Z
DTSTART:20210513T200000Z
DTEND:20210513T210000Z
SUMMARY:Presentation: Job Interviewing Via Zoom
DESCRIPTION:<p>Peter Karpathakis and Community Living Campaign teach strategies and tips for landing the job in a Zoom interview.</p>

<p>Connect with Community Living Campaign - <a href="https://sfcommunityliving.org/">Website</a> | <a href="https://twitter.com/CLCtweets">Twitter</a> | <a href="https://www.facebook.com/CommunityLivingCampaign/">Facebook</a></p>

<p>&nbsp;</p>

<p>This event is part of San Francisco's&nbsp;<a href="https://sfpl.org/locations/main-library/bridge-main-5th-floor/connect-tech-week">Tech Week</a>, May 9&ndash;15.</p>
LOCATION:Virtual Library
CLASS:PUBLIC
TRANSP:TRANSPARENT
END:VEVENT
BEGIN:VALARM
TRIGGER:-PT1440M
ACTION:DISPLAY
DESCRIPTION:Event Reminder - Presentation: Job Interviewing Via Zoom
END:VALARM
END:VCALENDAR