BEGIN:VCALENDAR
VERSION:2.0
PRODID:SFPL Web Calendar
BEGIN:VEVENT
UID:31503@sfpl.org
DTSTAMP:20210622T180000Z
DTSTART:20210622T180000Z
DTEND:20210622T190000Z
SUMMARY:Demonstration: Google Docs
DESCRIPTION:<p>Learn the basics on how to use Google Docs, a web-based word processor. Topics covered include navigating the platform, document formatting, importing Microsoft Word documents, saving your document, collaborating with other users and more. Google Docs is a word processor included as part of a free web-based productivity suite.</p>
LOCATION:Virtual Library
CLASS:PUBLIC
TRANSP:TRANSPARENT
END:VEVENT
BEGIN:VALARM
TRIGGER:-PT1440M
ACTION:DISPLAY
DESCRIPTION:Event Reminder - Demonstration: Google Docs
END:VALARM
END:VCALENDAR