BEGIN:VCALENDAR
VERSION:2.0
PRODID:SFPL Web Calendar
BEGIN:VEVENT
UID:31569@sfpl.org
DTSTAMP:20210722T200000Z
DTSTART:20210722T200000Z
DTEND:20210722T204500Z
SUMMARY:Author: Gene Luen Yang
DESCRIPTION:<p>Sports seasons across the country are being canceled, but the values taught by sports are more important than ever. Award-winning cartoonist Gene Luen Yang talks about how writing and drawing his latest graphic novel <a href="https://sfpl.bibliocommons.com/item/show/3920074093"><em>Dragon Hoops</em></a> turned him into a sports fan. <em>Dragon Hoops</em> tells the real-life story of the Bishop O'Dowd Dragons, a high school basketball team out of Oakland, California. For ages 12 and older.</p>

<p>&nbsp;</p>

<p><a href="https://youtu.be/kRPkdtvOUwI"><strong>YouTube Live</strong></a></p>

<p>&nbsp;</p>

<p><strong>About <a href="https://sfpl.bibliocommons.com/item/show/3920074093"><em>Dragon Hoops</em></a>: </strong>Gene understands stories&mdash;comic book stories, in particular. Big action. Bigger thrills. And the hero always wins. But Gene doesn&rsquo;t get sports. As a kid, his friends called him &ldquo;Stick&rdquo; and every basketball game he played ended in pain. The men&rsquo;s varsity team, the Dragons, is having a phenomenal season that&rsquo;s been decades in the making. Once Gene gets to know these young all-stars, he realizes that their story is just as thrilling as anything he&rsquo;s seen on a comic book page. What he doesn&rsquo;t know yet is that this season is not only going to change the Dragons&rsquo; lives, but his own life as well.</p>

<p>&nbsp;</p>

<p><strong>Gene Luen Yang</strong> writes, and sometimes draws, comic books and graphic novels. As the Library of Congress&rsquo; fifth National Ambassador for Young People&rsquo;s Literature, he advocates for the importance of reading, especially reading diversely. <a href="https://sfpl.bibliocommons.com/item/show/2462708093"><em>American Born Chinese</em></a>, his first graphic novel from First Second Books, was a National Book Award finalist, as well as the winner of the Printz Award and an Eisner Award. His two-volume graphic novel <em><a href="https://sfpl.bibliocommons.com/item/show/2653427093">Boxers </a>& <a href="https://sfpl.bibliocommons.com/item/show/2653428093">Saints</a></em> won the L.A. Times Book Prize and was a National Book Award Finalist. His other works include <em><a href="https://sfpl.bibliocommons.com/v2/search?query=secret+coders&searchType=smart">Secret Coders</a> </em>(with Mike Holmes), <a href="https://sfpl.bibliocommons.com/item/show/2779950093"><em>The Shadow Hero</em></a> (with Sonny Liew), <a href="https://sfpl.bibliocommons.com/v2/search?query=New+Super-Man&searchType=smart"><em>New Super-Man</em></a> from DC Comics (with various artists) and <a href="https://sfpl.bibliocommons.com/item/show/4761021093"><em>the Avatar: The Last Airbender</em></a> series from Dark Horse Comics (with Gurihiru). In 2016, he was named a MacArthur Foundation Fellow.</p>

<p><br />
Connect with Gene Luen Yang: <a href="https://www.facebook.com/GeneLuenYang/">Facebook</a> | <a href="https://www.instagram.com/geneluenyang/">Instagram</a> | <a href="https://twitter.com/geneluenyang?ref_src=twsrc%5Egoogle%7Ctwcamp%5Eserp%7Ctwgr%5Eauthor">Twitter</a></p>
LOCATION:Virtual Library
CLASS:PUBLIC
TRANSP:TRANSPARENT
END:VEVENT
BEGIN:VALARM
TRIGGER:-PT1440M
ACTION:DISPLAY
DESCRIPTION:Event Reminder - Author: Gene Luen Yang
END:VALARM
END:VCALENDAR