BEGIN:VCALENDAR
VERSION:2.0
PRODID:SFPL Web Calendar
BEGIN:VEVENT
UID:31584@sfpl.org
DTSTAMP:20210728T180000Z
DTSTART:20210728T180000Z
DTEND:20210728T190000Z
SUMMARY:Workshop: Money Mindset for Small Business Owners, Part 2
DESCRIPTION:<p>Learn how to ignite your small business idea with the SF Money Coach, Carrie Friedberg, in this four-part series.</p>

<p>Session Two topics will include: Four Solutions to a Shortfall, Rate/Price Setting and Three Levels of Savings.</p>

<p>&nbsp;</p>

<p>Since 2010, Carrie Friedberg, SF Money Coach, has been&nbsp;teaching individuals, families and small business owners all over the world how to align their spending, saving and earning with their values. She is a certified money coach and financial behavior specialist with an extensive background in education, mindfulness, positive psychology and personal development. She has been featured by the <em>US News</em>, <em>Forbes</em> and <em>Oprah </em>and many other media outlets. Carrie has consulted with Visa, Macy&rsquo;s, Google, Kansas State University and UC Berkeley. She is self-employed and works with clients primarily online from home in addition to in-person appointments in Palo Alto. Learn more about Carrie and her work at&nbsp;<a href="https://avanan.url-protection.com/v1/url?o=https%3A//urldefense.proofpoint.com/v2/url%3Fu%3Dhttps-3A__avanan.url-2Dprotection.com_v1_url-3Fo-3Dhttps-253A__urldefense.proofpoint.com_v2_url-253Fu-253Dhttp-2D3A-5F-5Fsfmoneycoach.com-5F-2526amp-253Bd-253DDwMFaQ-2526amp-253Bc-253DeuGZstcaTDllvimEN8b7jXrwqOf-2Dv5A-5FCdpgnVfiiMM-2526amp-253Br-253De8i1-5FOjQEvTF4z9GbukToTyv7lpODTLqz-5FvLdhc8Fnk-2526amp-253Bm-253DCOlo9zjCM1Dgj00-2DROg8Cjb9F4SGkwOt25yXPUkTrZE-2526amp-253Bs-253D08Wi7-5FnpoRe186WvnyGwT0yyudCw70tPUU-5FqYC7-5FbwQ-2526amp-253Be-253D-26g-3DZTc4OGMxMWU5ZGE3MzExMw-3D-3D-26h-3DN2Q4YmRkYzE1ZWIyMDI2MDJjMDU5ZmQ1YzlhM2VkOWI5YzFkNWU2OTc4NGIyYzJiOGJiNTJjMjQ0ZjllZTMxNw-3D-3D-26p-3DYXAzOnNmZHQyOmF2YW5hbjpvOjIyMDNlNzFiZWMzNzdmYjhmMDU2YmExZWYyZGQwYmY2OnYx%26amp%3Bd%3DDwMGaQ%26amp%3Bc%3DeuGZstcaTDllvimEN8b7jXrwqOf-v5A_CdpgnVfiiMM%26amp%3Br%3De8i1_OjQEvTF4z9GbukToTyv7lpODTLqz_vLdhc8Fnk%26amp%3Bm%3DBfOEuPiSXJmANfTbYXCM9scqnpOEpxDPBF30VHYcB20%26amp%3Bs%3DtdgfrMvNG0NVep4GHVHV-0ZkDNIiW2ciPWZM_GKKNxw%26amp%3Be%3D&g=MTc4N2UzNjE3NDA4NGY4Zg==&h=MmI2OWI5NzZhYzljMDFjNzMxNDM4Mjg0ODg0ZTc0NWYzMWI2OTBhZDM0ZDVkYzZkODZlNTVhOTZhYjI1YjEzMQ==&p=YXAzOnNmZHQyOmF2YW5hbjpvOjRhMTdmOWQ2Y2FmNDhhYjM2MmI1MjZjM2QyMjdkMmU3OnYx">sfmoneycoach.com</a>.</p>

<p>Connect with Carrie Friedberg, MA, FBS&reg;, CFC:&nbsp;<a href="http://linkedin.com/in/carriebirgbauer/">LinkedIn</a>&nbsp;|&nbsp;<a href="https://www.sfmoneycoach.com/">Website</a>&nbsp;|&nbsp;<a href="mailto:carrie@sfmoneycoach.com">Email</a></p>
LOCATION:Virtual Library
CLASS:PUBLIC
TRANSP:TRANSPARENT
END:VEVENT
BEGIN:VALARM
TRIGGER:-PT1440M
ACTION:DISPLAY
DESCRIPTION:Event Reminder - Workshop: Money Mindset for Small Business Owners, Part 2
END:VALARM
END:VCALENDAR