BEGIN:VCALENDAR
VERSION:2.0
PRODID:SFPL Web Calendar
BEGIN:VEVENT
UID:31715@sfpl.org
DTSTAMP:20210727T220000Z
DTSTART:20210727T220000Z
DTEND:20210727T230000Z
SUMMARY:Learn: ESL Convo Club
DESCRIPTION:<p>&nbsp;</p>

<p>Practice speaking English in a friendly group setting.<br />
We meet every Tuesday&nbsp;through July 27.<br />
All levels are welcome.<br />
Attend any or all sessions.</p>
LOCATION:Virtual Library
CLASS:PUBLIC
TRANSP:TRANSPARENT
END:VEVENT
BEGIN:VALARM
TRIGGER:-PT1440M
ACTION:DISPLAY
DESCRIPTION:Event Reminder - Learn: ESL Convo Club
END:VALARM
END:VCALENDAR