BEGIN:VCALENDAR
VERSION:2.0
PRODID:SFPL Web Calendar
BEGIN:VEVENT
UID:31735@sfpl.org
DTSTAMP:20211013T170000Z
DTSTART:20211013T170000Z
DTEND:20211013T180000Z
SUMMARY:Tutorial: Introduction to Project Budgets
DESCRIPTION:<p>Are you ready to start fundraising for your project or idea, but don't know what and how much to ask for? If preparing a budget for your foundation grant is holding you back, come learn the basic elements of how to draft a project budget with confidence.</p>

<p>&nbsp;</p>

<p>This class provides you with step-by-step instructions on how to generate a standard project budget for a foundation proposal. We discuss:</p>

<ul>
	<li>The basic components of a project budget including income and expenses</li>
	<li>How to estimate the realistic cost of a project</li>
	<li>What other financial documents you may also need to submit with your proposal</li>
</ul>

<p>As a member of Candid&rsquo;s Funding Information Network, San Francisco Public Library is pleased to offer monthly virtual trainings in various aspects of fundraising. Sign up for one or all.</p>

<p>&nbsp;</p>

<p>To register for this event, click on the blue Register button above. You will be directed to Candid's website, where you can "Login to Enroll" or create an account with Candid Learning. Once you're logged in, click on the "Enroll" button. Candid's registration platform is Eventbrite. You will receive an email from Eventbrite immediately with the Zoom link.&nbsp;</p>
LOCATION:Virtual Library
CLASS:PUBLIC
TRANSP:TRANSPARENT
END:VEVENT
BEGIN:VALARM
TRIGGER:-PT1440M
ACTION:DISPLAY
DESCRIPTION:Event Reminder - Tutorial: Introduction to Project Budgets
END:VALARM
END:VCALENDAR