BEGIN:VCALENDAR
VERSION:2.0
PRODID:SFPL Web Calendar
BEGIN:VEVENT
UID:31791@sfpl.org
DTSTAMP:20210619T210000Z
DTSTART:20210619T210000Z
DTEND:20210619T221500Z
SUMMARY:Author: Haben Girma, The Deafblind Woman Who Conquered Harvard Law
DESCRIPTION:<p>Haben Girma speaks on disability access and advocacy, and the importance of interdependence. The first Deafblind person to graduate from Harvard Law School, Girma is a human rights lawyer advancing disability justice.&nbsp;</p>

<p><strong>ASL interpretation and live captioning will be provided.</strong></p>

<h3><strong><a href="https://youtu.be/6J8NFqr5Ics">YouTube Live</a></strong></h3>

<p>&nbsp;</p>

<p><strong>Haben Girma </strong>grew up in the Bay Area, the daughter of refugees and a Black disabled woman, and built her path to success on the belief that inclusion is a choice. As the first Deafblind person to graduate from Harvard Law School, Girma advances disability justice globally, in corporate and public forums. President Obama named her a White House Champion of Change. She received the Helen Keller Achievement Award, a spot on the Forbes 30 Under 30 list and TIME100 Talks. President Bill Clinton, Prime Minister Justin Trudeau and Chancellor Angela Merkel have all honored Girma.</p>

<p>Girma believes disability is an opportunity for innovation, and she teaches organizations the importance of choosing inclusion. She promotes the directive that we all have the power to advocate. <em>The New York Times</em>, <em>Oprah Magazine</em> and TODAY Show featured her memoir, <a href="https://sfpl.bibliocommons.com/item/show/3854680093"><em>Haben: The Deafblind Woman Who Conquered Harvard Law.</em></a></p>

<p>Connect with Haben Girma - <a href="https://habengirma.com/">Website</a> | <a href="https://www.instagram.com/habengirma/">Instagram</a> | <a href="https://twitter.com/habengirma">Twitter</a> | <a href="https://www.facebook.com/habengirma">Facebook&nbsp;</a></p>

<h3>&nbsp;</h3>
LOCATION:Virtual Library
CLASS:PUBLIC
TRANSP:TRANSPARENT
END:VEVENT
BEGIN:VALARM
TRIGGER:-PT1440M
ACTION:DISPLAY
DESCRIPTION:Event Reminder - Author: Haben Girma, The Deafblind Woman Who Conquered Harvard Law
END:VALARM
END:VCALENDAR