BEGIN:VCALENDAR
VERSION:2.0
PRODID:SFPL Web Calendar
BEGIN:VEVENT
UID:31797@sfpl.org
DTSTAMP:20210630T020000Z
DTSTART:20210630T020000Z
DTEND:20210630T030000Z
SUMMARY:Author: Alina Adams, The Nesting Dolls: A Novel
DESCRIPTION:<p><a href="https://sfpl.bibliocommons.com/v2/search?query=Adams%2C%20Alina&searchType=author">Alina Adams</a>, <em>New York Times </em>bestselling author discusses her latest book, <a href="https://sfpl.bibliocommons.com/item/show/3948847093"><em>The Nesting Dolls</em></a>.&nbsp;</p>

<p>Spanning nearly a century, from 1930s Siberia to contemporary Brighton Beach, a page turning, epic family saga centering on three generations of women in one Russian Jewish family&mdash;each striving to break free of fate and history, each yearning for love and personal fulfillment&mdash;and how the consequences of their choices ripple through time.</p>

<p>&nbsp;</p>

<p>Alina Adams is the<em> New York Times</em> bestselling author of soap opera tie-ins, romance novels and figure skating mysteries. She has worked as a creative content producer for<em> As the World Turns and Guiding Light</em>; was part of the <em>All My Children</em> and <em>One Life to Live</em> reboots; and has been a writer, producer and skating researcher for ABC, NBC, TNT, ESPN and Lifetime TV. Alina immigrated to the United States with her family from Odessa, USSR, in 1977. She lives in New York City with her husband, Scott, and their three children.</p>

<h3><a href="https://youtu.be/7GNZL5z3LKU"><strong>YouTube Live</strong></a></h3>

<p><br />
Connect with Alina Adams - <a href="http://www.alinaadams.com/">Website</a> | <a href="https://twitter.com/IamAlinaAdams">Twitter</a> | <a href="https://www.instagram.com/iamalinaadams/?hl=en">Instagram </a></p>
LOCATION:Virtual Library
CLASS:PUBLIC
TRANSP:TRANSPARENT
END:VEVENT
BEGIN:VALARM
TRIGGER:-PT1440M
ACTION:DISPLAY
DESCRIPTION:Event Reminder - Author: Alina Adams, The Nesting Dolls: A Novel
END:VALARM
END:VCALENDAR