BEGIN:VCALENDAR
VERSION:2.0
PRODID:SFPL Web Calendar
BEGIN:VEVENT
UID:31841@sfpl.org
DTSTAMP:20210720T210000Z
DTSTART:20210720T210000Z
DTEND:20210720T220000Z
SUMMARY:Demonstration: Rubber Egg Challenge
DESCRIPTION:<p>Can you remove an egg's shell? Learn about chemical reactions with acids and bases and make a raw egg bounce in this bubbly experiment. Gather a jar or glass, an egg, white vinegar, a spoon or tongs and some food coloring for this unique challenge with Librarian Davey.</p>

<p>Live STEM Lab with SFPL is created by the <a href="http://sfpl.org/stemchallenge">STEM Challenge</a>&nbsp;Youth Librarian team. Stay STEM-tastic by reading, learning and experimenting at home.</p>
LOCATION:Virtual Library
CLASS:PUBLIC
TRANSP:TRANSPARENT
END:VEVENT
BEGIN:VALARM
TRIGGER:-PT1440M
ACTION:DISPLAY
DESCRIPTION:Event Reminder - Demonstration: Rubber Egg Challenge
END:VALARM
END:VCALENDAR