BEGIN:VCALENDAR
VERSION:2.0
PRODID:SFPL Web Calendar
BEGIN:VEVENT
UID:31884@sfpl.org
DTSTAMP:20210711T210000Z
DTSTART:20210711T210000Z
DTEND:20210711T230000Z
SUMMARY:Celebration: Northern California Book Awards
DESCRIPTION:<p>The 40th annual Northern California Book Awards recognize the best published works of 2020 by Northern California authors.&nbsp;</p>

<p>&nbsp;</p>

<p><a href="https://youtu.be/Zxlo1cOLSwQ"><strong>YouTube Live</strong></a></p>

<p>&nbsp;</p>

<p>Categories include: Fiction, General Nonfiction, Creative Nonfiction, Poetry, Children's Literature (Younger Readers, Middle Grade, Older Readers/YA) and Translation (Poetry and Fiction). Northern California reviewers and editors, members of the Northern California Book Reviewers, select the awards by reading and discussing the titles' merits. All of the nominated books, the NCBR Recommended Reading List of Books Published in 2020, are acknowledged and celebrated at the ceremony.</p>

<p><strong>History of the Northern California Book Awards</strong></p>

<p>Since 1981, the Northern California Book Reviewers, a volunteer group of book reviewers and book review editors, have honored the work of Northern California authors. One of the group's founders was Fred Cody, proprietor of the famed independent bookstore in Berkeley. The NCBR created an award in his name to honor a lifetime of achievements and distinguished service to the literary community. The Fred Cody Award for lifetime achievement is presented every year to a member of the literary community. Previous recipients include Jack Hirschman, Sandra M. Gilbert, Daniel Ellsberg, Judy Grahn, Susan Griffin, Willis Barnstone, Adam Hochschild, Kay Ryan, Michael Pollan, Al Young, Andrew Hoyem, Diane di Prima, Orville Schell, Philip Levine, Ronald Takaki, Francisco X. Alarc&oacute;n, Carolyn Kizer, Ishmael Reed, Maxine Hong Kingston, Robert Hass, Lawrence Ferlinghetti, Malcolm Margolin, Adrienne Rich, Wallace Stegner, Kay Boyle, William Everson, Alice Walker, Gary Snyder, Jessica Mitford, Tillie Olsen, M.F.K. Fisher, Robert Duncan, Nancy J. Peters and Tamim Ansary.</p>

<p>The Awards&rsquo; Sponsors <a href="https://poetryflash.org/programs/?p=ncba"><u>Poetry Flash</u></a>, <a href="https://wnba-sfchapter.org/"><u>Women&rsquo;s National Book Association-San Francisco Chapter</u></a>, <a href="https://pen.org/"><u>PEN West</u></a>, <a href="https://www.milibrary.org/"><u>Mechanics' Institute Library</u></a>, San Francisco Public Library and <a href="https://www.friendssfpl.org/"><u>Friends of the San Francisco Public Library</u></a> sponsor and/or present the Northern California Book Awards.</p>

<p>Nominated books may be purchased from our partners at&nbsp;<a href="http://I've added the City Lights Books link for the NCBA online bookstore.  All of the books are covered and featured there.   NCBA 2021 Online Bookstore:  https://bookshop.org/lists/northern-california-book-awards-2021">City Lights Books</a>.&nbsp;</p>

<h3>&nbsp;</h3>

<p>&nbsp;</p>

<p>&nbsp;</p>
LOCATION:Virtual Library
CLASS:PUBLIC
TRANSP:TRANSPARENT
END:VEVENT
BEGIN:VALARM
TRIGGER:-PT1440M
ACTION:DISPLAY
DESCRIPTION:Event Reminder - Celebration: Northern California Book Awards
END:VALARM
END:VCALENDAR