BEGIN:VCALENDAR
VERSION:2.0
PRODID:SFPL Web Calendar
BEGIN:VEVENT
UID:31911@sfpl.org
DTSTAMP:20210804T020000Z
DTSTART:20210804T020000Z
DTEND:20210804T030000Z
SUMMARY:Author: Chaney Kwak in conversation with Oscar Villalon
DESCRIPTION:<p>Cheaney Kwak, author, and Oscar Villalon, managing editor of <em>ZYZZYVA </em>will discuss writing, travel, near death experiences and Kwak&rsquo;s debut novel.&nbsp;</p>

<h3><a href="https://youtu.be/qL5YNZIyXXY"><strong>YouTube Live&nbsp;</strong></a></h3>

<p>&nbsp;</p>

<p><a href="https://sfpl.bibliocommons.com/item/show/4787383093"><em><u>The Passenger How A Travel Writer Learned to Love Cruises & Other Lies From A Sinking Ship </u></em></a>is neither straight reported nonfiction, nor straight memoir: it&rsquo;s a compelling mix of the two that&rsquo;s both harrowing in its closely reported details and laugh out loud funny in its searing honesty. By the end you&rsquo;ll agree, you couldn&rsquo;t ask for a better guide to twenty -seven unforgettable hours aboard a maybe-sinking-ship than Chaney Kwak. - Joshua Bodwell, Editorial Director</p>

<p><br />
&nbsp;</p>

<p><a href="https://sfpl.bibliocommons.com/v2/search?query=Kwak%2C%20Chaney&searchType=author"><strong><u>Chaney Kwak</u></strong></a> has written for publications such as <em>The New York Times, Cond&eacute; Nast Traveler, Food & Wine,&nbsp; Travel & Leisure</em>&nbsp; and a number of <em>National Geographic</em> anthologies. His fiction has appeared in Zyzzyva, <em>Catamaran Literary Review, Gertrude</em> and other literary journals, earning a special mention from the Pushcart Prize.</p>

<p>&nbsp;</p>

<p>A winner of the Key West Literary Seminar Emerging Writer Awards, Kwak has received scholarships from the Bread Loaf Writers&rsquo; Conference and was a Friends of the San Francisco Public Library Brown Handler Resident.</p>

<p>He teaches nonfiction writing at the Stanford Continuing Studies program.</p>

<p>&nbsp;</p>

<p><a href="https://sfpl.bibliocommons.com/v2/search?query=%22Villalon%2C+Oscar%22&searchType=author"><strong><u>Oscar Villalon</u></strong></a> is the managing editor of <em>ZYZZYVA</em>. His writing has been published in several publications, including <em>Freeman&rsquo;s, Zocalo, The Believer</em> and <em>Lit Hub</em>. He lives in San Francisco.</p>

<p><br />
&nbsp;</p>

<p>Connect</p>

<p>Chaney Kwak - <a href="https://chaneykwak.com/"><u>Website</u></a> | <a href="https://www.instagram.com/chaneykwak/"><u>Instagram</u></a> | <a href="https://twitter.com/chaneykwak"><u>Twitter</u></a>&nbsp;</p>

<p>Oscar Villalon - <a href="https://twitter.com/ovillalon"><u>Twitter</u></a>&nbsp;</p>

<p>ZYZZYVA - <a href="https://www.zyzzyva.org/"><u>Website</u></a> | <a href="https://instagram.com/zyzzyvamag"><u>Instagram</u></a> | <a href="https://twitter.com/zyzzyvamag"><u>Twitter</u></a> | <a href="https://www.facebook.com/zyzzyvamag/"><u>Facebook</u></a>&nbsp;</p>

<p>&nbsp;</p>
LOCATION:Virtual Library
CLASS:PUBLIC
TRANSP:TRANSPARENT
END:VEVENT
BEGIN:VALARM
TRIGGER:-PT1440M
ACTION:DISPLAY
DESCRIPTION:Event Reminder - Author: Chaney Kwak in conversation with Oscar Villalon
END:VALARM
END:VCALENDAR