BEGIN:VCALENDAR
VERSION:2.0
PRODID:SFPL Web Calendar
BEGIN:VEVENT
UID:32644@sfpl.org
DTSTAMP:20210925T200000Z
DTSTART:20210925T200000Z
DTEND:20210925T210000Z
SUMMARY:Presentation: Drought Tolerant Gardening with San Francisco Native Plants
DESCRIPTION:<p>We discuss drought-tolerant native San Francisco plants, including drought-tolerant plants that thrive in pots.</p>

<p>&nbsp;</p>

<p><strong><a href="https://youtu.be/-s62cSg1HQQ">Watch on YouTube.&nbsp;</a></strong></p>

<p>&nbsp;</p>

<p>Water conservation is essential to create lovely livable gardens that can survive California&rsquo;s droughts. Drought tolerant landscapes match plant needs to weather-based water supply with minimal additional watering.</p>

<p>&nbsp;</p>

<p>Local San Francisco native plants are beautiful, drought tolerant, adapted to our varied soils, adapted to our varied weather and co-evolved with our local pollinators.</p>

<p>&nbsp;</p>

<p>Susan Karasoff gardens in San Francisco&rsquo;s clay soil. Karasoff is a member of the California Native Plant Society (CNPS)&nbsp;- Yerba Buena (San Francisco) chapter. Karasoff has an &ldquo;only the easiest plants survive&rdquo; approach to gardening and grows a buffet of colorful native edible and pollinator plants, specifically gardening to feed caterpillars, bees, hummingbirds and people.</p>

<p>&nbsp;</p>

<p>Connect with the California Native Plant Society - Yerba Buena Chapter - <a href="http://cnps-yerbabuena.org/"> CNPS - Website</a> |<a href="https://www.instagram.com/yerba.buena.cnps/"> </a></p>

<p><a href="https://www.instagram.com/yerba.buena.cnps/">CNPS - Instagram</a> |<a href="https://www.facebook.com/YerbaBuenaCNPS/"> CNPS - Facebook</a> | <a href="https://www.flickr.com/photos/155051674@N02/">CNPS - Flickr</a></p>

<p><a href="https://www.youtube.com/user/SanFranciscoLibrary/videos"><u>Watch past CNPS events</u></a> on the SFPL YouTube channel.&nbsp;</p>

<p>&nbsp;</p>

<p>&nbsp;</p>
LOCATION:Virtual Library
CLASS:PUBLIC
TRANSP:TRANSPARENT
END:VEVENT
BEGIN:VALARM
TRIGGER:-PT1440M
ACTION:DISPLAY
DESCRIPTION:Event Reminder - Presentation: Drought Tolerant Gardening with San Francisco Native Plants
END:VALARM
END:VCALENDAR