BEGIN:VCALENDAR
VERSION:2.0
PRODID:SFPL Web Calendar
BEGIN:VEVENT
UID:32655@sfpl.org
DTSTAMP:20211014T190000Z
DTSTART:20211014T190000Z
DTEND:20211014T210000Z
SUMMARY:Film: The Last Black Man in San Francisco
DESCRIPTION:<p>Jimmie Fails dreams of reclaiming the Victorian home his grandfather built in the heart of San Francisco. Joined on his quest by his best friend Mont, Jimmie searches for belonging in a rapidly changing city that seems to have left them behind. As he struggles to reconnect with his family and reconstruct the community he longs for, his hopes blind him to the reality of his situation.</p>

<p>R, 121 mins., 2019.</p>

<p>Director: Joe Talbot</p>

<p>Stars: Jimmie Fails, Jonathan Majors, Rob Morgan</p>

<p>Listen to the Total SF Podcast Episode: <a href="https://podcasts.apple.com/au/podcast/joe-talbot-jimmie-fails-interview-last-black-man-in/id1316784981?i=1000440579237">Joe Talbot and Jimmie Fails interview &mdash; "The Last Black Man in San Francisco"</a></p>
LOCATION:Main Library - Koret Auditorium
CLASS:PUBLIC
TRANSP:TRANSPARENT
END:VEVENT
BEGIN:VALARM
TRIGGER:-PT1440M
ACTION:DISPLAY
DESCRIPTION:Event Reminder - Film: The Last Black Man in San Francisco
END:VALARM
END:VCALENDAR