BEGIN:VCALENDAR
VERSION:2.0
PRODID:SFPL Web Calendar
BEGIN:VEVENT
UID:32661@sfpl.org
DTSTAMP:20211209T200000Z
DTSTART:20211209T200000Z
DTEND:20211209T220000Z
SUMMARY:Film: Some Like it Hot
DESCRIPTION:<p>After two male musicians witness a mob hit, they flee the state in an all-female band disguised as women, but further complications set in.</p>

<p>Director: Billy Wilder</p>

<p>Stars: Marilyn Monroe, Tony Curtis, Jack Lemmon</p>

<p>NR, 121 mins.,1959.</p>
LOCATION:Main Library - Koret Auditorium
CLASS:PUBLIC
TRANSP:TRANSPARENT
END:VEVENT
BEGIN:VALARM
TRIGGER:-PT1440M
ACTION:DISPLAY
DESCRIPTION:Event Reminder - Film: Some Like it Hot
END:VALARM
END:VCALENDAR