BEGIN:VCALENDAR
VERSION:2.0
PRODID:SFPL Web Calendar
BEGIN:VEVENT
UID:32680@sfpl.org
DTSTAMP:20211013T230000Z
DTSTART:20211013T230000Z
DTEND:20211014T000000Z
SUMMARY:Workshop: Guatemalan-Inspired Kite Art
DESCRIPTION:<p>Honor loved ones and create a colorful Guatemalan-inspired kite to place on your&nbsp;Dia&nbsp;de los Muertos altar. For ages 8 and older.</p>

<p>Gather the following supplies and tools ahead of time:&nbsp;</p>

<ul>
	<li>
	<p>Circle paper plate (Large size if possible)&nbsp;</p>
	</li>
	<li>
	<p>Ruler&nbsp;</p>
	</li>
	<li>
	<p>Pencil&nbsp;</p>
	</li>
	<li>
	<p>Multicolor Markers or Color Pencils or Crayons&nbsp;&nbsp;</p>
	</li>
	<li>
	<p>Multi Color Tissue Paper&nbsp;&nbsp;</p>
	</li>
	<li>
	<p>Scissors&nbsp;</p>
	</li>
	<li>
	<p>Glue and/or Tape&nbsp;</p>
	</li>
	<li>
	<p>Optional: Photo / photocopy of a loved one you have lost and would like to honor this year. Picture should fit in the center of the plate.&nbsp;</p>
	</li>
</ul>

<p>Alejandra Ramirez is a Salinas and Bay Area Artist, Arts Educator and Arts Administrator.&nbsp;</p>

<p><a href="https://www.conintencion.com/">Alejandra Ramirez - Website</a></p>

<p>This virtual program is offered as a one-time event only by agreement with the presenter(s).</p>
LOCATION:Virtual Library
CLASS:PUBLIC
TRANSP:TRANSPARENT
END:VEVENT
BEGIN:VALARM
TRIGGER:-PT1440M
ACTION:DISPLAY
DESCRIPTION:Event Reminder - Workshop: Guatemalan-Inspired Kite Art
END:VALARM
END:VCALENDAR