BEGIN:VCALENDAR
VERSION:2.0
PRODID:SFPL Web Calendar
BEGIN:VEVENT
UID:32705@sfpl.org
DTSTAMP:20211014T020000Z
DTSTART:20211014T020000Z
DTEND:20211014T030000Z
SUMMARY:Presentation: Demons, Creatures and Monsters
DESCRIPTION:<p>Learn about the Asian Art Museum's mythical creatures, legendary beasts, terrifying monsters&hellip; they are supernatural, mystical, often god-like or demon-like beings and they have fascinated us since ancient times. Even today, they continue to thrill, terrify, entertain and inspire us. They have filled folklore, stories, songs and works of art. They may even be able to protect us&mdash;from viruses.</p>

<p>&nbsp;</p>

<p>Connect: <a href="https://asianart.org/">Asian Art Museum - Website</a> | <a href="https://www.instagram.com/asianartmuseum/?hl=en">Asian Art Museum - Instagram</a> | <a href="https://twitter.com/asianartmuseum?lang=en">Asian Art Museum - Twitter</a> | <a href="https://www.facebook.com/AsianArtMuseum/">Asian Art Museum - Facebook</a> | <a href="https://www.youtube.com/user/AsianArtMuseum">Asian Art Museum - YouTube </a></p>
LOCATION:Virtual Library
CLASS:PUBLIC
TRANSP:TRANSPARENT
END:VEVENT
BEGIN:VALARM
TRIGGER:-PT1440M
ACTION:DISPLAY
DESCRIPTION:Event Reminder - Presentation: Demons, Creatures and Monsters
END:VALARM
END:VCALENDAR