BEGIN:VCALENDAR
VERSION:2.0
PRODID:SFPL Web Calendar
BEGIN:VEVENT
UID:32749@sfpl.org
DTSTAMP:20210814T210000Z
DTSTART:20210814T210000Z
DTEND:20210814T223000Z
SUMMARY:Celebration: Poets Honor Janice Mirikitani
DESCRIPTION:<p>Poets celebrate the life and legacy of <a href="https://sfpl.bibliocommons.com/v2/search?query=Mirikitani%2C%20Janice&searchType=author">Janice Mirikitani</a>. Featuring San Francisco Poet Laureates past and present, <a href="https://sfpl.bibliocommons.com/v2/search?query=tongo%20eisen-martin&searchType=smart">Tongo Eisen-Martin</a> (January 2021 &ndash; present), <a href="https://sfpl.bibliocommons.com/v2/search?query=Shuck%2C%20Kim&searchType=author">Kim Shuck</a> (June 2017 &ndash; January 2021), <a href="https://sfpl.bibliocommons.com/v2/search?query=Murgu%C3%ADa%2C%20Alejandro%2C&searchType=author">Alejandro Murgu&iacute;a</a> (July 2012 &ndash; December 2015),<a href="https://sfpl.bibliocommons.com/v2/search?query=%C2%A0Jack%20Hirschman&searchType=author"> Jack Hirschman</a> (January 2006 &ndash; January 2008, <a href="https://sfpl.bibliocommons.com/v2/search?query=devorah%20major&searchType=author">devorah major</a> (April 2002 &ndash; April 2004). Along with many esteemed and loved poets from the Bay Area and beyond,&nbsp; <a href="https://sfpl.bibliocommons.com/v2/record/S93C3826452">Aileen Cassinetto</a>, Susan Kitazawa, Genny Lim, Lauren Ito, Sandy Mori, Kimi Sugioka,&nbsp;Dr. Mary Wardell Ghirarduzzi,&nbsp; <a href="https://sfpl.bibliocommons.com/v2/record/S93C2498845">Michael Warr</a>, <a href="https://sfpl.bibliocommons.com/v2/search?query=nellie+wong&searchType=smart">Nellie&nbsp;Wong</a> with more to come.</p>

<p>&nbsp;</p>

<p><strong><a href="https://youtu.be/KzV9qWA45o4">Watch on YouTube.&nbsp;</a></strong></p>

<p>&nbsp;</p>

<p>Janice Mirikitani was a visionary, a revolutionary artist and the very embodiment of San Francisco&rsquo;s compassionate spirit. As a poet, including as Poet Laureate of this City from 2000 to 2002, she used the power of her words to further the fight for equality and to call for a more just and peaceful world. Through her work at Glide Memorial Church, along with her husband the Reverend Cecil Williams, she served our most vulnerable residents for decades and provided a place of refuge and love for all. She was boundless in her energy and in her devotion to this City and to her fellow San Franciscans.</p>

<p>&nbsp;</p>
LOCATION:Virtual Library
CLASS:PUBLIC
TRANSP:TRANSPARENT
END:VEVENT
BEGIN:VALARM
TRIGGER:-PT1440M
ACTION:DISPLAY
DESCRIPTION:Event Reminder - Celebration: Poets Honor Janice Mirikitani
END:VALARM
END:VCALENDAR