BEGIN:VCALENDAR
VERSION:2.0
PRODID:SFPL Web Calendar
BEGIN:VEVENT
UID:32913@sfpl.org
DTSTAMP:20211020T170000Z
DTSTART:20211020T170000Z
DTEND:20211020T180000Z
SUMMARY:Presentation: Creating Family Archives
DESCRIPTION:<p>Learn the easy steps for organizing and preserving&nbsp;your family memories&nbsp;with archivist Margot Note.</p>

<p>&nbsp;</p>

<p><strong><a href="https://youtu.be/sTXCnGj6hi4">Watch on YouTube.&nbsp;</a></strong></p>

<p>&nbsp;</p>

<p>Margot Note is an author, archivist and consultant helping individuals and organizations harness their history. Her book,&nbsp;<em>Creating Family Archives: A Step-by-Step Guide to Saving Your Memories for Future Generations</em>, simplifies the principles and practices of professional archivists and curators so that anyone with a passion for their personal and familial history can apply these techniques to their family treasures.&nbsp;</p>

<p>&nbsp;</p>

<p>Connect:&nbsp;<a href="http://www.margotnote.com/">Margot Note - Website</a>&nbsp;|&nbsp;<a href="http://www.instagram.com/margotnote">Margot Note - Instagram</a>&nbsp;|&nbsp;<a href="http://www.twitter.com/margotnote">Margot&nbsp;Note - Twitter</a>&nbsp;</p>

<p>&nbsp;</p>

<p>&nbsp;</p>
LOCATION:Virtual Library
CLASS:PUBLIC
TRANSP:TRANSPARENT
END:VEVENT
BEGIN:VALARM
TRIGGER:-PT1440M
ACTION:DISPLAY
DESCRIPTION:Event Reminder - Presentation: Creating Family Archives
END:VALARM
END:VCALENDAR