BEGIN:VCALENDAR
VERSION:2.0
PRODID:SFPL Web Calendar
BEGIN:VEVENT
UID:32944@sfpl.org
DTSTAMP:20211014T200000Z
DTSTART:20211014T200000Z
DTEND:20211014T213000Z
SUMMARY:Tutorial: Make Your Mac More to Your Liking
DESCRIPTION:<p>Informative spin through the somewhat cryptic and frequently confusing System Preferences section of your Apple Macintosh computer.</p>

<p>We demystify some of those geeky doodads and help you to customize Mac preferences to suit your preferences.</p>

<p>All levels welcome. One hour demonstration followed by 30 minutes question and answer session.</p>
LOCATION:Virtual Library
CLASS:PUBLIC
TRANSP:TRANSPARENT
END:VEVENT
BEGIN:VALARM
TRIGGER:-PT1440M
ACTION:DISPLAY
DESCRIPTION:Event Reminder - Tutorial: Make Your Mac More to Your Liking
END:VALARM
END:VCALENDAR