BEGIN:VCALENDAR
VERSION:2.0
PRODID:SFPL Web Calendar
BEGIN:VEVENT
UID:32952@sfpl.org
DTSTAMP:20211015T003000Z
DTSTART:20211015T003000Z
DTEND:20211015T011500Z
SUMMARY:Author: Leticia Hernández-Linares with Robert Liu-Trujillo 
DESCRIPTION:<p>Leticia Hern&aacute;ndez-Linares and&nbsp;Robert Liu-Trujillo, longtime Bay Area artists and activists, share their process of working together with The Rise-Home Stories project to create <em>Alejandria Fight Back/&iexcl;La Lucha de Alejandria!&nbsp;</em>Join nine-year-old Alejandria as she fights to save her neighborhood in this bilingual Spanish-English picture book, which centers youth activism amidst housing insecurity and gentrification. A must-watch event for kids and their families. &nbsp;</p>

<p>&nbsp;</p>

<p><a href="https://youtu.be/ECbddPoIjB4"><strong>Watch on YouTube</strong></a></p>

<p>&nbsp;</p>

<p>Leticia&nbsp;Hern&aacute;ndez-Linares is a bilingual, interdisciplinary writer & artist and racial justice educator. The first-generation U.S. born daughter of Salvadoran immigrants, she is the author of&nbsp;<em>Mucha Muchacha, Too Much Girl. </em>All of her creative and educational work incorporates storytelling and art&ndash;&ndash; important tools for celebrating culture & community. She has lived on the same block in the Mission District of San Francisco for twenty-five years. She works to preserve the spirit & history of her neighborhood, along with her two artivist sons, & her neighbors & community. Find her on Twitter @joinleticia.</p>

<p><strong>&nbsp;</strong></p>

<p>Robert Liu-Trujillo&nbsp;illustrated this book. He is a lifelong Bay Area resident. Born in Oakland, California, he is the child of student activists who watched lots of science-fiction and took him to many demonstrations. Always drawing, Rob grew up to be an artist, falling in love with graffiti, fine art, illustration, murals and children&rsquo;s books. Through storytelling, he&rsquo;s been able to scratch the surface of so many untold stories. He is the author and illustrator of <em><a href="https://sfpl.bibliocommons.com/v2/record/S93C3264601">Furqan&rsquo;s First Flat Top</a></em>. Learn more about Rob at&nbsp;<a href="https://work.robdontstop.com">work.robdontstop.com</a>.&nbsp;</p>

<p>&nbsp;</p>

<p><strong>The Rise-Home Stories Project</strong> is a groundbreaking collaboration between multimedia storytellers and social justice advocates from several grassroots organizations who work at the nexus of housing, land and racial justice in the US. To learn more, visit <a href="http://www.risehomestories.com">risehomestories.com</a>.</p>
LOCATION:Virtual Library
CLASS:PUBLIC
TRANSP:TRANSPARENT
END:VEVENT
BEGIN:VALARM
TRIGGER:-PT1440M
ACTION:DISPLAY
DESCRIPTION:Event Reminder - Author: Leticia Hernández-Linares with Robert Liu-Trujillo 
END:VALARM
END:VCALENDAR