BEGIN:VCALENDAR
VERSION:2.0
PRODID:SFPL Web Calendar
BEGIN:VEVENT
UID:33402@sfpl.org
DTSTAMP:20211208T023000Z
DTSTART:20211208T023000Z
DTEND:20211208T033000Z
SUMMARY:Author: Gina Baleria on transforming the media landscape
DESCRIPTION:<p>Dr. Gina Baleria (<em><a href="https://avanan.url-protection.com/v1/url?o=https%3A//sflib1.sfpl.org/search~/a%3FSORT%3DD%26amp%3Bsearchscope%3D1%26amp%3Bsearchtype%3DX%26amp%3Bsearcharg%3Dgina%2Bbaleria%26amp%3BSORT%3DD%26amp%3Bx%3D0%26amp%3By%3D0&g=NjFhMzQ5ZjAxOTY5ZWFjYw==&h=ODM0ODBiM2VmNmYyNDI5M2ZmYjg5NjdmYjYxM2ZjNzY2MWIxOWRiZWY1YmU5YzBhNDNhNTJkYjQ2OGZmNmU5Mg==&p=YXAzOnNmZHQyOmF2YW5hbjpvOmE5OGNjYjNiMWQzMDdiNjYyMzk4ZDA3MGQ1YWEyOTI3OnYx">The Journalism Behind Journalism</a></em>) speaks on topics related to her new book and ongoing work. She discusses issues related to bias and objectivity in the journalism field, as well as how our media landscape can better address issues of power, equity and addressing the needs of news audiences. Audience questions and discussion are welcomed.</p>

<p>Gina Baleria, Ed.D., is an assistant professor of digital media, media writing, podcasting and journalism at Sonoma State University. Prior to teaching, Dr. Baleria was an award-winning broadcast and digital journalist. Outside of work, she enjoys hiking, reading and spending time with friends and family. She and her husband live in San Francisco<em>.</em></p>

<p>Dr. Baleria hosts the <a href="http://newsincontext.net/">podcast News In Context</a>.</p>

<p><a href="https://twitter.com/newsincontextsf">News in Context Twitter feed</a></p>
LOCATION:Virtual Library
CLASS:PUBLIC
TRANSP:TRANSPARENT
END:VEVENT
BEGIN:VALARM
TRIGGER:-PT1440M
ACTION:DISPLAY
DESCRIPTION:Event Reminder - Author: Gina Baleria on transforming the media landscape
END:VALARM
END:VCALENDAR