BEGIN:VCALENDAR
VERSION:2.0
PRODID:SFPL Web Calendar
BEGIN:VEVENT
UID:33435@sfpl.org
DTSTAMP:20211013T230000Z
DTSTART:20211013T230000Z
DTEND:20211014T000000Z
SUMMARY:Tutorial: Computer Skills Quick Start
DESCRIPTION:<p>Just getting started with computers? Join us for this 4-week class to practice the basics. Come to any or all sessions. Space is limited. Weekly topics are listed below.&nbsp;</p>

<ul>
	<li>October 6: Using the mouse; opening files and programs</li>
	<li>October 13: Exploring the internet</li>
	<li>October 20: Saving and downloading files</li>
	<li>October 27: Completing online forms and applications</li>
</ul>
LOCATION:Main Library - Computer Training Center - 5th Fl
CLASS:PUBLIC
TRANSP:TRANSPARENT
END:VEVENT
BEGIN:VALARM
TRIGGER:-PT1440M
ACTION:DISPLAY
DESCRIPTION:Event Reminder - Tutorial: Computer Skills Quick Start
END:VALARM
END:VCALENDAR