BEGIN:VCALENDAR
VERSION:2.0
PRODID:SFPL Web Calendar
BEGIN:VEVENT
UID:33499@sfpl.org
DTSTAMP:20211020T000000Z
DTSTART:20211020T000000Z
DTEND:20211020T010000Z
SUMMARY:Workshop: SAT Test Prep (Class A)
DESCRIPTION:<p>Build confidence, increase standardized test fluency and set effective test-taking goals in this course for students preparing to take the 2021&ndash;2022 SAT exams. Space limited. For 9th&ndash;12th graders who live or attend school in San Francisco.</p>

<p>Study Smart Tutors is committed to and passionate about providing equitable college and career programming to close opportunity gaps.</p>

<p>This virtual program is offered as a one-time event only by agreement with the presenter(s). Please check out other outstanding Library programs on our <a href="http://youtube.com/sanfranciscolibrary">YouTube channel</a>.&nbsp;</p>

<p><a href="https://studysmart.us/">Study Smart Tutors - Website</a></p>
LOCATION:Virtual Library
CLASS:PUBLIC
TRANSP:TRANSPARENT
END:VEVENT
BEGIN:VALARM
TRIGGER:-PT1440M
ACTION:DISPLAY
DESCRIPTION:Event Reminder - Workshop: SAT Test Prep (Class A)
END:VALARM
END:VCALENDAR