BEGIN:VCALENDAR
VERSION:2.0
PRODID:SFPL Web Calendar
BEGIN:VEVENT
UID:33598@sfpl.org
DTSTAMP:20211013T220000Z
DTSTART:20211013T220000Z
DTEND:20211013T221500Z
SUMMARY:Workshop: How to Make a Pupusa
DESCRIPTION:<p>Discover the pupusa&mdash;a Salvadoran staple&mdash;as three family members share its significance, their cooking memories and offer a step-by-step tutorial with their recipe. For kids and their families.</p>

<p><a href="https://youtu.be/10LGYxVUldQ"><strong>Watch on YouTube.</strong></a></p>

<p>Teen Intern Daniella participated in the Youth Engaged in Library Leadership (YELL) 2021 summer internship program as a member of the Social Justice & Art cohort. The Social Justice & Art cohort focused on using art to creatively explore activism, social justice&nbsp;and history.</p>
LOCATION:Virtual Library
CLASS:PUBLIC
TRANSP:TRANSPARENT
END:VEVENT
BEGIN:VALARM
TRIGGER:-PT1440M
ACTION:DISPLAY
DESCRIPTION:Event Reminder - Workshop: How to Make a Pupusa
END:VALARM
END:VCALENDAR