BEGIN:VCALENDAR
VERSION:2.0
PRODID:SFPL Web Calendar
BEGIN:VEVENT
UID:33603@sfpl.org
DTSTAMP:20211014T220000Z
DTSTART:20211014T220000Z
DTEND:20211014T221500Z
SUMMARY:Presentation: Society in Pandemic
DESCRIPTION:<p>Teen Intern Monique, a 2021 YELL intern, documents her lived experience during the COVID-19&nbsp;pandemic. She connects lifestyle and situations to her larger community. For ages 13&ndash;18.</p>

<p><a href="https://youtu.be/HTEKF08_CIA"><strong>Watch on YouTube.</strong></a></p>

<p>She participated in the Youth Engaged in Library Leadership (YELL) 2021 summer internship program as a member of the Social Justice & Art cohort. The Social Justice & Art cohort focused on using art to creatively explore activism, social justice&nbsp;and history.</p>
LOCATION:Virtual Library
CLASS:PUBLIC
TRANSP:TRANSPARENT
END:VEVENT
BEGIN:VALARM
TRIGGER:-PT1440M
ACTION:DISPLAY
DESCRIPTION:Event Reminder - Presentation: Society in Pandemic
END:VALARM
END:VCALENDAR