BEGIN:VCALENDAR
VERSION:2.0
PRODID:SFPL Web Calendar
BEGIN:VEVENT
UID:33605@sfpl.org
DTSTAMP:20211019T220000Z
DTSTART:20211019T220000Z
DTEND:20211019T221500Z
SUMMARY:Workshop: Plarn and Its Uses
DESCRIPTION:<p>Create yarn from plastic bags to use in knitting, crocheting or weaving projects. Learn about the harms of plastic, steps to reduce plastic waste and how people can help save animal life and prevent trash from going into landfills. For ages 10 and older.</p>

<p><a href="https://youtu.be/7rf5yKXnJTw"><strong>Watch on YouTube.</strong></a></p>

<p>Teen Intern Maleeha participated in the Youth Engaged in Library Leadership (YELL) 2021 summer internship program as a member of the STEM & Nature cohort. The STEM & Nature cohort used STEM to explore different aspects of the urban nature spaces in their community and connected them to topics like sustainability, community gardens and nature walks. They are passionate about the environment and creating art.</p>
LOCATION:Virtual Library
CLASS:PUBLIC
TRANSP:TRANSPARENT
END:VEVENT
BEGIN:VALARM
TRIGGER:-PT1440M
ACTION:DISPLAY
DESCRIPTION:Event Reminder - Workshop: Plarn and Its Uses
END:VALARM
END:VCALENDAR