BEGIN:VCALENDAR
VERSION:2.0
PRODID:SFPL Web Calendar
BEGIN:VEVENT
UID:33658@sfpl.org
DTSTAMP:20220205T193000Z
DTSTART:20220205T193000Z
DTEND:20220205T213000Z
SUMMARY:Celebration: Year of the Tiger
DESCRIPTION:<p>Celebrate Year of the Tiger with a Lion Dance and traditional Chinese art performances, including tea ceremony and China&nbsp;Ethnic costume&nbsp;shows, vocal solo&nbsp;from The Dasen&nbsp;American Academy, Jinghu and vocal solos from local artists, various Chinese traditional dances from San Francisco High School of Arts, KongFu dance and choir from MeiYi&nbsp;Choir Group.&nbsp;</p>

<p>圖書館會以中國傳統藝術表演包括舞獅、德森學院的童聲獨唱、茶香、民族服裝表演、本地藝術家的京胡、聲樂獨奏及合唱，&nbsp;來自舊金山藝術私立中學的舞蹈及美藝合唱團的功夫扇舞和合唱與您同慶虎年。</p>

<p><strong><a href="https://www.youtube.com/watch?v=-t8Gl5g3Ky4">Watch on YouTube</a></strong></p>

<p>This program is provided by partnerships with The Dasen American Academy, Jing Mo Athletic Association, &nbsp;&nbsp;S.F. Art Choir of American, San Francisco High School of Art and the Chinese Center of San Francisco Public Library.</p>

<p>本次活動由德森學院、舊金山藝術私立中學、美藝合唱團及三藩市公立圖書館華文中心合作舉辦。</p>
LOCATION:Main Library - Koret Auditorium
CLASS:PUBLIC
TRANSP:TRANSPARENT
END:VEVENT
BEGIN:VALARM
TRIGGER:-PT1440M
ACTION:DISPLAY
DESCRIPTION:Event Reminder - Celebration: Year of the Tiger
END:VALARM
END:VCALENDAR